BEGIN:VCALENDAR
VERSION:2.0
PRODID:-//hacksw/handcal//NONSGML v1.0//EN
BEGIN:VEVENT
SUMMARY:TAE I et N a St Ave
UID:1d3fff5f-712b-4da1-9e39-66fffbfba2d1
DTSTART:20260512T220000Z
DTEND:20260513T220000Z
LOCATION:Localisation   
CATEGORIES:Sportif
STATUS:
URL;VALUE=URI:https://cdarchers56.sportsregions.fr/evenements/2026/05/13/tae-i-et-n-a-st-ave-2435399
END:VEVENT
END:VCALENDAR
