BEGIN:VCALENDAR
VERSION:2.0
PRODID:-//hacksw/handcal//NONSGML v1.0//EN
BEGIN:VEVENT
SUMMARY:Tir 3D de Pontivy a Malguenac
UID:4fd8265f-27b7-40e3-b340-fd518e8cf9de
DTSTART:20260507T220000Z
DTEND:20260509T220000Z
LOCATION:Localisation   malguenac
CATEGORIES:Sportif
STATUS:
URL;VALUE=URI:https://cdarchers56.sportsregions.fr/evenements/2026/05/08/tir-3d-de-pontivy-a-malguenac-2435396
END:VEVENT
END:VCALENDAR
