BEGIN:VCALENDAR
VERSION:2.0
PRODID:-//hacksw/handcal//NONSGML v1.0//EN
BEGIN:VEVENT
SUMMARY:Tir Nature a Vannes - CD 56
UID:1403d44a-de88-4f93-bb14-f47f1f8c542a
DTSTART:20260425T220000Z
DTEND:20260426T220000Z
LOCATION:Localisation  56000 vannes
CATEGORIES:Sportif
STATUS:
URL;VALUE=URI:https://cdarchers56.sportsregions.fr/evenements/2026/04/26/tir-nature-a-vannes-cd-56-2435381
END:VEVENT
END:VCALENDAR
