BEGIN:VCALENDAR
VERSION:2.0
PRODID:-//hacksw/handcal//NONSGML v1.0//EN
BEGIN:VEVENT
SUMMARY:Tir en campagne a Clegerec
UID:7b9ba779-ae2e-4821-9239-192782b2a7d3
DTSTART:20260404T220000Z
DTEND:20260405T220000Z
LOCATION:Localisation   cleguerec
CATEGORIES:Sportif
STATUS:
URL;VALUE=URI:https://cdarchers56.sportsregions.fr/evenements/2026/04/05/tir-en-campagne-a-clegerec-2435375
END:VEVENT
END:VCALENDAR
